BEGIN:VCALENDAR
VERSION:2.0
PRODID:-//ChamberMaster//Event Calendar 2.0//EN
METHOD:PUBLISH
X-PUBLISHED-TTL:P3D
REFRESH-INTERVAL:P3D
CALSCALE:GREGORIAN
BEGIN:VEVENT
DTSTART;VALUE=DATE:20160119
DTEND;VALUE=DATE:20160120
TRANSP:TRANSPARENT
X-MICROSOFT-CDO-ALLDAYEVENT:TRUE
SUMMARY:Comic Convention
DESCRIPTION:Comic Convention
X-ALT-DESC;FMTTYPE=text/html:<a href="https://chambermaster.blob.core.windows.net/userfiles/UserFiles/chambers/2490/File/Test.pdf">Comic Convention&nbsp\;&nbsp\;&nbsp\;&nbsp\;</a>
LOCATION:HiClick Here
UID:e.2490.690
SEQUENCE:3
DTSTAMP:20260424T091655Z
URL:https://www.daul.page/events/details/comic-convention-01-19-2016-690
END:VEVENT

END:VCALENDAR
