BEGIN:VCALENDAR
VERSION:2.0
PRODID:-//ChamberMaster//Event Calendar 2.0//EN
METHOD:PUBLISH
X-PUBLISHED-TTL:P3D
REFRESH-INTERVAL:P3D
CALSCALE:GREGORIAN
BEGIN:VEVENT
DTSTART;VALUE=DATE:20161220
DTEND;VALUE=DATE:20161221
TRANSP:TRANSPARENT
X-MICROSOFT-CDO-ALLDAYEVENT:TRUE
SUMMARY:Comic Convention
DESCRIPTION:Comic Convention
X-ALT-DESC;FMTTYPE=text/html:Comic Convention&nbsp\;&nbsp\;&nbsp\;&nbsp\;
LOCATION:22395 co rd 3 Merrifield\, mn 56465
UID:e.2490.701
SEQUENCE:3
DTSTAMP:20260423T194058Z
URL:https://www.daul.page/events/details/comic-convention-12-20-2016-701
END:VEVENT

END:VCALENDAR
