BEGIN:VCALENDAR
VERSION:2.0
PRODID:-//ChamberMaster//Event Calendar 2.0//EN
METHOD:PUBLISH
X-PUBLISHED-TTL:P3D
REFRESH-INTERVAL:P3D
CALSCALE:GREGORIAN
BEGIN:VEVENT
DTSTART:20180928T160000Z
DTEND:20180928T163000Z
X-MICROSOFT-CDO-ALLDAYEVENT:FALSE
SUMMARY:Monthly Luncheon
DESCRIPTION:July 31 Monthly Luncheon
X-ALT-DESC;FMTTYPE=text/html:July 31 Monthly Luncheon
LOCATION:July 31 11am till 11:30am
UID:e.2490.851
SEQUENCE:3
DTSTAMP:20260420T153406Z
URL:https://www.daul.page/events/details/monthly-luncheon-09-28-2018-851
END:VEVENT

END:VCALENDAR
