BEGIN:VCALENDAR
VERSION:2.0
PRODID:-//ChamberMaster//Event Calendar 2.0//EN
METHOD:PUBLISH
X-PUBLISHED-TTL:P3D
REFRESH-INTERVAL:P3D
CALSCALE:GREGORIAN
BEGIN:VEVENT
DTSTART;VALUE=DATE:20160804
DTEND;VALUE=DATE:20160805
TRANSP:TRANSPARENT
X-MICROSOFT-CDO-ALLDAYEVENT:TRUE
SUMMARY:temp test
DESCRIPTION:test
X-ALT-DESC;FMTTYPE=text/html:<div style="color: gray\;">test</div>\n
LOCATION:test
UID:e.2490.968
SEQUENCE:3
DTSTAMP:20260423T234730Z
URL:https://www.daul.page/events/details/temp-test-08-04-2016-968
END:VEVENT

END:VCALENDAR
