BEGIN:VCALENDAR
VERSION:2.0
PRODID:-//ChamberMaster//Event Calendar 2.0//EN
METHOD:PUBLISH
X-PUBLISHED-TTL:P3D
REFRESH-INTERVAL:P3D
CALSCALE:GREGORIAN
BEGIN:VEVENT
DTSTART;VALUE=DATE:20150909
DTEND;VALUE=DATE:20150910
TRANSP:TRANSPARENT
X-MICROSOFT-CDO-ALLDAYEVENT:TRUE
SUMMARY:Test event 002
DESCRIPTION:test
X-ALT-DESC;FMTTYPE=text/html:test
LOCATION:test
UID:e.2490.943
SEQUENCE:3
DTSTAMP:20260424T163454Z
URL:https://www.daul.page/events/details/test-event-002-09-09-2015-943
END:VEVENT

END:VCALENDAR
