BEGIN:VCALENDAR
VERSION:2.0
PRODID:-//ChamberMaster//Event Calendar 2.0//EN
METHOD:PUBLISH
X-PUBLISHED-TTL:P3D
REFRESH-INTERVAL:P3D
CALSCALE:GREGORIAN
BEGIN:VEVENT
DTSTART;VALUE=DATE:20150902
DTEND;VALUE=DATE:20150904
TRANSP:TRANSPARENT
X-MICROSOFT-CDO-ALLDAYEVENT:TRUE
SUMMARY:Test For Facebook
DESCRIPTION:Description: Test
X-ALT-DESC;FMTTYPE=text/html:Description: Test
LOCATION:Location: Test
UID:e.2490.941
SEQUENCE:3
DTSTAMP:20260424T152441Z
URL:https://www.daul.page/events/details/test-for-facebook-09-02-2015-941
END:VEVENT

END:VCALENDAR
